{"text_format":"1","workbook":"xlsx","n_sheets":5,"sheets":["Présentation","Mode d'emploi","Déclaration","Tableau","Crédit"],"not_rendered":{"charts":0,"images":12,"macros":1,"external_links":0,"defined_names":4,"comments":0,"pivot_tables":0},"unopened":[],"bounds":{"document_bytes":16777216,"sheet_cells":100000,"rows_first":2000,"rows_last":500,"rows_between":2000,"halvings":0,"cell_chars":16384,"cell_head_chars":4096},"cells_cut":0,"cells_raw":0,"read":"whole","date_system":"1900"}

{"sheet":"Présentation","index":0,"n_rows":0,"n_cols":0,"rows_kept":0,"cut":false,"hidden":false,"merged":[]}

{"sheet":"Mode d'emploi","index":1,"n_rows":0,"n_cols":0,"rows_kept":0,"cut":false,"hidden":false,"merged":[]}

{"sheet":"Déclaration","index":2,"n_rows":70,"n_cols":9,"rows_kept":70,"cut":false,"hidden":false,"merged":[[0,8,0,12]]}
["Graphèmes","Mots",null,null,null,null,null,null,"Attention !\nLes mots doivent être strictement identiques aux noms des fichiers images du dossier.\nLes accents sont souvent absents dans les noms de fichiers."]
["a","avion",{"$f":"IF(B2<>\"\",CONCATENATE(B2,\".jpg → ok\"),\"\")","v":"avion.jpg → ok"}]
["b","bebe",{"$f":"IF(B3<>\"\",CONCATENATE(B3,\".jpg → ok\"),\"\")","v":"bebe.jpg → ok"}]
["c","cadeau","cadeau.jpg → ok"]
["d","dent","dent.jpg → ok"]
["e","cheval","cheval.jpg → ok"]
["f","feuille","feuille.jpg → ok"]
["g","gateau","gateau.jpg → ok"]
["h","haricot","haricot.jpg → ok"]
["i","igloo","igloo.jpg → ok"]
["j","jardin","jardin.jpg → ok"]
["k","kepi","kepi.jpg → ok"]
["l","livre","livre.jpg → ok"]
["m","maman","maman.jpg → ok"]
["n","nid","nid.jpg → ok"]
["o","moto","moto.jpg → ok"]
["p","pomme","pomme.jpg → ok"]
["qu","queue","queue.jpg → ok"]
["r","renard","renard.jpg → ok"]
["s","serpent","serpent.jpg → ok"]
["t","tambour","tambour.jpg → ok"]
["u","lune","lune.jpg → ok"]
["v","velo","velo.jpg → ok"]
["y",null,""]
["x",null,""]
["w",null,""]
["z",null,""]
["ou","loup","loup.jpg → ok"]
["é",null,""]
["è",null,""]
["ê",null,""]
["on","bonbon","bonbon.jpg → ok"]
["ch",null,""]
[null,null,""]
["ai",null,""]
["ei",null,""]
["oi",null,""]
["in",null,""]
["gr",null,""]
["tr",null,""]
["br",null,""]
["cr",null,""]
["fr",null,""]
["dr",null,""]
["oin","",""]
["ien","",""]
["ph","",""]
[null,null,""]
[null,null,""]
[null,null,""]
[null,null,""]
[null,null,""]
[null,null,""]
[null,null,""]
[null,null,""]
[null,null,""]
[null,null,""]
[null,null,""]
[null,null,""]
[null,null,""]
[null,null,""]
[null,null,""]
[null,null,""]
[null,null,""]
[null,null,""]
[null,null,""]
[null,null,{"$f":"IF(B67<>\"\",CONCATENATE(B67,\".jpg → ok\"),\"\")","v":""}]
[null,null,""]
[null,null,""]
[null,null,""]

{"sheet":"Tableau","index":3,"n_rows":24,"n_cols":16,"rows_kept":24,"cut":false,"hidden":false,"merged":[]}
[]
[]
[]
[null,null,null,null,{"$f":"IF(E3<>\"\",VLOOKUP(E3,Déclaration!$A$2:$B$70,2,FALSE),\"\")","v":""},{"$f":"IF(F3<>\"\",VLOOKUP(F3,Déclaration!$A$2:$B$70,2,FALSE),\"\")","v":""},{"$f":"IF(G3<>\"\",VLOOKUP(G3,Déclaration!$A$2:$B$70,2,FALSE),\"\")","v":""},{"$f":"IF(H3<>\"\",VLOOKUP(H3,Déclaration!$A$2:$B$70,2,FALSE),\"\")","v":""},{"$f":"IF(I3<>\"\",VLOOKUP(I3,Déclaration!$A$2:$B$70,2,FALSE),\"\")","v":""},{"$f":"IF(J3<>\"\",VLOOKUP(J3,Déclaration!$A$2:$B$70,2,FALSE),\"\")","v":""},{"$f":"IF(K3<>\"\",VLOOKUP(K3,Déclaration!$A$2:$B$70,2,FALSE),\"\")","v":""},{"$f":"IF(L3<>\"\",VLOOKUP(L3,Déclaration!$A$2:$B$70,2,FALSE),\"\")","v":""},{"$f":"IF(M3<>\"\",VLOOKUP(M3,Déclaration!$A$2:$B$70,2,FALSE),\"\")","v":""},{"$f":"IF(N3<>\"\",VLOOKUP(N3,Déclaration!$A$2:$B$70,2,FALSE),\"\")","v":""}]
[null,null,null,{"$f":"IF(C5<>\"\",VLOOKUP(C5,Déclaration!$A$2:$B$70,2,FALSE),\"\")","v":""},{"$f":"IF(AND($C5<>\"\",E$3<>\"\"),CONCATENATE(OFFSET($C$3,ROW()-3,0),OFFSET($C$3,0,COLUMN()-3)),\"\")","v":""},{"$f":"IF(AND($C5<>\"\",F$3<>\"\"),CONCATENATE(OFFSET($C$3,ROW()-3,0),OFFSET($C$3,0,COLUMN()-3)),\"\")","v":""},"","","","","","","","",null,{"$f":"IF(AND($C5<>\"\",P$3<>\"\"),CONCATENATE(OFFSET($C$3,ROW()-3,0),OFFSET($C$3,0,COLUMN()-3)),\"\")","v":""}]
[null,null,null,{"$f":"IF(C6<>\"\",VLOOKUP(C6,Déclaration!$A$2:$B$70,2,FALSE),\"\")","v":""},{"$f":"IF(AND($C6<>\"\",E$3<>\"\"),CONCATENATE(OFFSET($C$3,ROW()-3,0),OFFSET($C$3,0,COLUMN()-3)),\"\")","v":""},"","","","","","","","","",null,{"$f":"COUNTA($E$3:$N$3)","v":0}]
[null,null,null,{"$f":"IF(C7<>\"\",VLOOKUP(C7,Déclaration!$A$2:$B$70,2,FALSE),\"\")","v":""},"","","","","","","","","","",null,{"$f":"COUNTA($C$5:$C$23)","v":0}]
[null,null,null,{"$f":"IF(C8<>\"\",VLOOKUP(C8,Déclaration!$A$2:$B$70,2,FALSE),\"\")","v":""},"","","","","","","","","",""]
[null,null,null,{"$f":"IF(C9<>\"\",VLOOKUP(C9,Déclaration!$A$2:$B$70,2,FALSE),\"\")","v":""},"","","","","","","","","",""]
[null,null,null,{"$f":"IF(C10<>\"\",VLOOKUP(C10,Déclaration!$A$2:$B$70,2,FALSE),\"\")","v":""},"","","","","","","","","",""]
[null,null,null,{"$f":"IF(C11<>\"\",VLOOKUP(C11,Déclaration!$A$2:$B$70,2,FALSE),\"\")","v":""},"","","","","","","","","",""]
[null,null,null,{"$f":"IF(C12<>\"\",VLOOKUP(C12,Déclaration!$A$2:$B$70,2,FALSE),\"\")","v":""},"","","","","","","","","",""]
[null,null,null,{"$f":"IF(C13<>\"\",VLOOKUP(C13,Déclaration!$A$2:$B$70,2,FALSE),\"\")","v":""},"","","","","","","","","",""]
[null,null,null,{"$f":"IF(C14<>\"\",VLOOKUP(C14,Déclaration!$A$2:$B$70,2,FALSE),\"\")","v":""},"","","","","","","","","",""]
[null,null,null,{"$f":"IF(C15<>\"\",VLOOKUP(C15,Déclaration!$A$2:$B$70,2,FALSE),\"\")","v":""},"","","","","","","","","",""]
[null,null,null,{"$f":"IF(C16<>\"\",VLOOKUP(C16,Déclaration!$A$2:$B$70,2,FALSE),\"\")","v":""},"","","","","","","","","",""]
[null,null,null,{"$f":"IF(C17<>\"\",VLOOKUP(C17,Déclaration!$A$2:$B$70,2,FALSE),\"\")","v":""},"","","","","","","","","",""]
[null,null,null,{"$f":"IF(C18<>\"\",VLOOKUP(C18,Déclaration!$A$2:$B$70,2,FALSE),\"\")","v":""},"","","","","","","","","",""]
[null,null,null,{"$f":"IF(C19<>\"\",VLOOKUP(C19,Déclaration!$A$2:$B$70,2,FALSE),\"\")","v":""},"","","","","","","","","",""]
[null,null,null,{"$f":"IF(C20<>\"\",VLOOKUP(C20,Déclaration!$A$2:$B$70,2,FALSE),\"\")","v":""},"","","","","","","","","",""]
[null,null,null,{"$f":"IF(C21<>\"\",VLOOKUP(C21,Déclaration!$A$2:$B$70,2,FALSE),\"\")","v":""},"","","","","","","","","",""]
[null,null,null,{"$f":"IF(C22<>\"\",VLOOKUP(C22,Déclaration!$A$2:$B$70,2,FALSE),\"\")","v":""},"","","","","","","","","",""]
[null,null,null,{"$f":"IF(C23<>\"\",VLOOKUP(C23,Déclaration!$A$2:$B$70,2,FALSE),\"\")","v":""},"","","","","","","","","",""]
[null,null,null,null,{"$f":"IF(AND($C24<>\"\",E$3<>\"\"),CONCATENATE(OFFSET($C$3,ROW()-3,0),OFFSET($C$3,0,COLUMN()-3)),\"\")","v":""},"","","","","","","","",""]

{"sheet":"Crédit","index":4,"n_rows":11,"n_cols":7,"rows_kept":11,"cut":false,"hidden":false,"merged":[]}
[null,null,null,null,null,null,"Crédit"]
[]
[null,"Ce fichier est libre de droit d'utilisation et de diffusion."]
[null,"Vous pouvez en modifier les formules ainsi que le code des macros pour les adapter à vos besoins."]
[null,"Merci de bien vouloir m'informer des modifications et des améliorations que vous aurez développées afin de pouvoir en faire profiter le plus grand nombre."]
[]
[]
[]
[]
[]
[null,null,"Cliquer ici pour me contacter ð"]